BEGIN:VCALENDAR
VERSION:2.0
PRODID:-//Squarespace Inc/Squarespace 6//v6//EN
BEGIN:VEVENT
UID:5fb9868591a4ea000eab0d0a@squarespace.com
DTSTAMP:20201208T203834Z
DTSTART:20201127T193000Z
DTEND:20201127T233000Z
SUMMARY:City Centre Fresh Produce Saturday Markets 
GEO:-36.84759;174.766856
LOCATION:Ellen Melville Centre\, 2 Freyberg Place\, Auckland\, Auckland\, 1
 010\, New Zealand
END:VEVENT
END:VCALENDAR
