BEGIN:VCALENDAR
VERSION:2.0
PRODID:-//Squarespace Inc/Squarespace 6//v6//EN
BEGIN:VEVENT
UID:5d57316989bf8a00013489ce@squarespace.com
DTSTAMP:20190816T225948Z
DTSTART:20190821T060000Z
DTEND:20190821T080000Z
SUMMARY:MEET CITY CENTRE RESIDENTS AT OUR MONTHLY RED HAT DINNER
GEO:-36.853232;174.767318
LOCATION:Four Seasons at AUT\, 55 Wellesley Street East\, Auckland\, New Zr
 aland
END:VEVENT
END:VCALENDAR
