BEGIN:VCALENDAR
VERSION:2.0
PRODID:-//Squarespace Inc/Squarespace 6//v6//EN
BEGIN:VEVENT
UID:5cab04b79b747a5233e0b796@squarespace.com
DTSTAMP:20190510T063957Z
DTSTART:20190527T060000Z
DTEND:20190527T083000Z
SUMMARY:MEET CITY CENTRE RESIDENTS AT OUR MONTHLY RED HAT DINNER
GEO:-36.856849;174.758665
LOCATION:Indian Oceania\, 12/1 Beresford Square\, Auckland\, Auckland\, 101
 0\, New Zealand
END:VEVENT
END:VCALENDAR
